BEGIN:VCALENDAR
VERSION:2.0
PRODID:-//Medway Watersports - ECPv6.15.20//NONSGML v1.0//EN
CALSCALE:GREGORIAN
METHOD:PUBLISH
X-ORIGINAL-URL:https://medwaywatersports.co.uk
X-WR-CALDESC:Events for Medway Watersports
REFRESH-INTERVAL;VALUE=DURATION:PT1H
X-Robots-Tag:noindex
X-PUBLISHED-TTL:PT1H
BEGIN:VTIMEZONE
TZID:Europe/London
BEGIN:DAYLIGHT
TZOFFSETFROM:+0000
TZOFFSETTO:+0100
TZNAME:BST
DTSTART:20240331T010000
END:DAYLIGHT
BEGIN:STANDARD
TZOFFSETFROM:+0100
TZOFFSETTO:+0000
TZNAME:GMT
DTSTART:20241027T010000
END:STANDARD
BEGIN:DAYLIGHT
TZOFFSETFROM:+0000
TZOFFSETTO:+0100
TZNAME:BST
DTSTART:20250330T010000
END:DAYLIGHT
BEGIN:STANDARD
TZOFFSETFROM:+0100
TZOFFSETTO:+0000
TZNAME:GMT
DTSTART:20251026T010000
END:STANDARD
BEGIN:DAYLIGHT
TZOFFSETFROM:+0000
TZOFFSETTO:+0100
TZNAME:BST
DTSTART:20260329T010000
END:DAYLIGHT
BEGIN:STANDARD
TZOFFSETFROM:+0100
TZOFFSETTO:+0000
TZNAME:GMT
DTSTART:20261025T010000
END:STANDARD
END:VTIMEZONE
BEGIN:VEVENT
DTSTART;TZID=Europe/London:20250727T133000
DTEND;TZID=Europe/London:20250727T163000
DTSTAMP:20260423T193908
CREATED:20250324T135737Z
LAST-MODIFIED:20250324T135737Z
UID:34149-1753623000-1753633800@medwaywatersports.co.uk
SUMMARY:Adult Sailing
DESCRIPTION:Come and enjoy learning to sail on the tidal River Medway.  We have a fleet of toppers for you to learn the basics before venturing into our double handlers. \nFor age groups 16+ and sailors must be able to launch and recover and be able to\nright their boat from a capsize by themselves. An Instructor will be on hand to help\nwith your session. To enhance the learning experience there will also be some land based activities during the season\, particularly if the weather is poor. \nYou will get 2 hours on the water but in order to enjoy the full sailing experience please arrive 30 minutes before the published session start time so that you can learn to rig your own boat. You will also need to de-rig and put the boat away so allow another 30 minutes at the end. \nIMPORTANT: Please wear old clothes and suitable footwear i.e. trainers or water\nshoes. Flip flops and crocs are not suitable and you will not be allowed to\nparticipate. Also bring a towel and dry clothes to change into.
URL:https://medwaywatersports.co.uk/event/adult-sailing-2-2-2-2-2-2/
LOCATION:Medway WaterSports Centre\, Strand Approach Rd\, Gillingham\, Kent\, ME7 1TT\, United Kingdom
CATEGORIES:Dinghy Sailing,Sailing
ATTACH;FMTTYPE=image/png:https://medwaywatersports.co.uk/wp-content/uploads/2014/09/Sunday-Sailing-2025.png
ORGANIZER;CN="Medway WaterSports Centre":MAILTO:sails@medwaywatersports.co.uk
END:VEVENT
BEGIN:VEVENT
DTSTART;TZID=Europe/London:20250726T124500
DTEND;TZID=Europe/London:20250726T154500
DTSTAMP:20260423T193908
CREATED:20250324T125936Z
LAST-MODIFIED:20250324T125936Z
UID:34105-1753533900-1753544700@medwaywatersports.co.uk
SUMMARY:RYA OnBoard Junior Sailing
DESCRIPTION:Come and enjoy learning to sail on the tidal River Medway.  We have a fleet of toppers for you to learn the basics before venturing into our double handlers. \nYou will get 2 hours on the water but in order to enjoy the full sailing experience please arrive 30 minutes before the published session start time so that you can learn to rig your own boat. You will also need to de-rig and put the boat away so allow another 30 minutes at the end. \nThe RYA OnBoard programme offers young people the opportunity to try out sailing in a safe\, structured and fun environment. \nOpen to anyone aged 8-18\, the programme enables those taking part to experience all the excitement and relaxation that being on the water offers\, whilst at the same time teaching them a wide range of invaluable life skills\, from problem solving to leadership and teamwork. To enhance the learning experience there will also be some land based activities during the season\, particularly if the weather is poor. \nIMPORTANT: Please wear old clothes and suitable footwear i.e. trainers or water shoes. Flip flops and crocs are not suitable and you will not be allowed to participate. Also bring a towel and dry clothes to change into.
URL:https://medwaywatersports.co.uk/event/rya-onboard-junior-sailing-2-2-2-2-2-2-2-2-2-2-2/
LOCATION:Medway WaterSports Centre\, Strand Approach Rd\, Gillingham\, Kent\, ME7 1TT\, United Kingdom
CATEGORIES:Dinghy Sailing,Sailing
ATTACH;FMTTYPE=image/png:https://medwaywatersports.co.uk/wp-content/uploads/2014/09/2025-RYA-ONBOARD-2-copy.png
ORGANIZER;CN="Medway WaterSports Centre":MAILTO:sails@medwaywatersports.co.uk
END:VEVENT
BEGIN:VEVENT
DTSTART;TZID=Europe/London:20250719T100000
DTEND;TZID=Europe/London:20250719T120000
DTSTAMP:20260423T193908
CREATED:20250324T125744Z
LAST-MODIFIED:20250324T125744Z
UID:34103-1752919200-1752926400@medwaywatersports.co.uk
SUMMARY:RYA OnBoard Junior Sailing
DESCRIPTION:Come and enjoy learning to sail on the tidal River Medway.  We have a fleet of toppers for you to learn the basics before venturing into our double handlers. \nYou will get 2 hours on the water but in order to enjoy the full sailing experience please arrive 30 minutes before the published session start time so that you can learn to rig your own boat. You will also need to de-rig and put the boat away so allow another 30 minutes at the end. \nThe RYA OnBoard programme offers young people the opportunity to try out sailing in a safe\, structured and fun environment. \nOpen to anyone aged 8-18\, the programme enables those taking part to experience all the excitement and relaxation that being on the water offers\, whilst at the same time teaching them a wide range of invaluable life skills\, from problem solving to leadership and teamwork. To enhance the learning experience there will also be some land based activities during the season\, particularly if the weather is poor. \nIMPORTANT: Please wear old clothes and suitable footwear i.e. trainers or water shoes. Flip flops and crocs are not suitable and you will not be allowed to participate. Also bring a towel and dry clothes to change into.
URL:https://medwaywatersports.co.uk/event/rya-onboard-junior-sailing-2-2-2-2-2-2-2-2-2-2/
LOCATION:Medway WaterSports Centre\, Strand Approach Rd\, Gillingham\, Kent\, ME7 1TT\, United Kingdom
CATEGORIES:Dinghy Sailing,Sailing
ATTACH;FMTTYPE=image/png:https://medwaywatersports.co.uk/wp-content/uploads/2014/09/2025-RYA-ONBOARD-2-copy.png
ORGANIZER;CN="Medway WaterSports Centre":MAILTO:sails@medwaywatersports.co.uk
END:VEVENT
BEGIN:VEVENT
DTSTART;TZID=Europe/London:20250712T130000
DTEND;TZID=Europe/London:20250712T160000
DTSTAMP:20260423T193908
CREATED:20250324T125532Z
LAST-MODIFIED:20250324T125532Z
UID:34101-1752325200-1752336000@medwaywatersports.co.uk
SUMMARY:RYA OnBoard Junior Sailing
DESCRIPTION:Come and enjoy learning to sail on the tidal River Medway.  We have a fleet of toppers for you to learn the basics before venturing into our double handlers. \nYou will get 2 hours on the water but in order to enjoy the full sailing experience please arrive 30 minutes before the published session start time so that you can learn to rig your own boat. You will also need to de-rig and put the boat away so allow another 30 minutes at the end. \nThe RYA OnBoard programme offers young people the opportunity to try out sailing in a safe\, structured and fun environment. \nOpen to anyone aged 8-18\, the programme enables those taking part to experience all the excitement and relaxation that being on the water offers\, whilst at the same time teaching them a wide range of invaluable life skills\, from problem solving to leadership and teamwork. To enhance the learning experience there will also be some land based activities during the season\, particularly if the weather is poor. \nIMPORTANT: Please wear old clothes and suitable footwear i.e. trainers or water shoes. Flip flops and crocs are not suitable and you will not be allowed to participate. Also bring a towel and dry clothes to change into.
URL:https://medwaywatersports.co.uk/event/rya-onboard-junior-sailing-2-2-2-2-2-2-2-2-2/
LOCATION:Medway WaterSports Centre\, Strand Approach Rd\, Gillingham\, Kent\, ME7 1TT\, United Kingdom
CATEGORIES:Dinghy Sailing,Sailing
ATTACH;FMTTYPE=image/png:https://medwaywatersports.co.uk/wp-content/uploads/2014/09/2025-RYA-ONBOARD-2-copy.png
ORGANIZER;CN="Medway WaterSports Centre":MAILTO:sails@medwaywatersports.co.uk
END:VEVENT
BEGIN:VEVENT
DTSTART;TZID=Europe/London:20250615T140000
DTEND;TZID=Europe/London:20250615T170000
DTSTAMP:20260423T193908
CREATED:20250324T135249Z
LAST-MODIFIED:20250324T135249Z
UID:34143-1749996000-1750006800@medwaywatersports.co.uk
SUMMARY:Adult Sailing
DESCRIPTION:Come and enjoy learning to sail on the tidal River Medway.  We have a fleet of toppers for you to learn the basics before venturing into our double handlers. \nFor age groups 16+ and sailors must be able to launch and recover and be able to\nright their boat from a capsize by themselves. An Instructor will be on hand to help\nwith your session. To enhance the learning experience there will also be some land based activities during the season\, particularly if the weather is poor. \nYou will get 2 hours on the water but in order to enjoy the full sailing experience please arrive 30 minutes before the published session start time so that you can learn to rig your own boat. You will also need to de-rig and put the boat away so allow another 30 minutes at the end. \nIMPORTANT: Please wear old clothes and suitable footwear i.e. trainers or water\nshoes. Flip flops and crocs are not suitable and you will not be allowed to\nparticipate. Also bring a towel and dry clothes to change into.
URL:https://medwaywatersports.co.uk/event/adult-sailing-2-2-2/
LOCATION:Medway WaterSports Centre\, Strand Approach Rd\, Gillingham\, Kent\, ME7 1TT\, United Kingdom
CATEGORIES:Dinghy Sailing,Sailing
ATTACH;FMTTYPE=image/png:https://medwaywatersports.co.uk/wp-content/uploads/2014/09/Sunday-Sailing-2025.png
ORGANIZER;CN="Medway WaterSports Centre":MAILTO:sails@medwaywatersports.co.uk
END:VEVENT
BEGIN:VEVENT
DTSTART;TZID=Europe/London:20250614T133000
DTEND;TZID=Europe/London:20250614T163000
DTSTAMP:20260423T193908
CREATED:20250324T125208Z
LAST-MODIFIED:20250324T125208Z
UID:34097-1749907800-1749918600@medwaywatersports.co.uk
SUMMARY:RYA OnBoard Junior Sailing
DESCRIPTION:Come and enjoy learning to sail on the tidal River Medway.  We have a fleet of toppers for you to learn the basics before venturing into our double handlers. \nYou will get 2 hours on the water but in order to enjoy the full sailing experience please arrive 30 minutes before the published session start time so that you can learn to rig your own boat. You will also need to de-rig and put the boat away so allow another 30 minutes at the end. \nThe RYA OnBoard programme offers young people the opportunity to try out sailing in a safe\, structured and fun environment. \nOpen to anyone aged 8-18\, the programme enables those taking part to experience all the excitement and relaxation that being on the water offers\, whilst at the same time teaching them a wide range of invaluable life skills\, from problem solving to leadership and teamwork. To enhance the learning experience there will also be some land based activities during the season\, particularly if the weather is poor. \nIMPORTANT: Please wear old clothes and suitable footwear i.e. trainers or water shoes. Flip flops and crocs are not suitable and you will not be allowed to participate. Also bring a towel and dry clothes to change into.
URL:https://medwaywatersports.co.uk/event/rya-onboard-junior-sailing-2-2-2-2-2-2-2/
LOCATION:Medway WaterSports Centre\, Strand Approach Rd\, Gillingham\, Kent\, ME7 1TT\, United Kingdom
CATEGORIES:Dinghy Sailing,Sailing
ATTACH;FMTTYPE=image/png:https://medwaywatersports.co.uk/wp-content/uploads/2014/09/2025-RYA-ONBOARD-2-copy.png
ORGANIZER;CN="Medway WaterSports Centre":MAILTO:sails@medwaywatersports.co.uk
END:VEVENT
BEGIN:VEVENT
DTSTART;TZID=Europe/London:20250608T094500
DTEND;TZID=Europe/London:20250608T124500
DTSTAMP:20260423T193908
CREATED:20250324T132845Z
LAST-MODIFIED:20250324T132845Z
UID:34127-1749375900-1749386700@medwaywatersports.co.uk
SUMMARY:Family Sailing - 2 Adults + 2 Children
DESCRIPTION:Come and enjoy learning to sail on the tidal River Medway.  We have a fleet of toppers for you to learn the basics before venturing into our double handlers. \nFamily ticket covers 2 adults and 2 children (age 8-16). \nSailors must be able to launch and recover and be able to\nright their boat from a capsize by themselves. An Instructor will be on hand to help with your session. \nTo enhance the learning experience there will also be some land based activities during the season\, particularly if the weather is poor. \nAll children in the family group MUST participate in the sailing.  We cannot permit children under the age of 16 to be left on shore or in the Centre without an adult from their own group to supervise them.  Our insurance and safe guarding regulations do not permit this. \nYou will get 2 hours on the water but in order to enjoy the full sailing experience please arrive 30 minutes before the published session start time so that you can learn to rig your own boat. You will also need to de-rig and put the boat away so allow another 30 minutes at the end. \nIMPORTANT: Please wear old clothes and suitable footwear i.e. trainers or water\nshoes. Flip flops and crocs are not suitable and you will not be allowed to\nparticipate. Also bring a towel and dry clothes to change into.
URL:https://medwaywatersports.co.uk/event/family-sailing-2-adults-2-children-2-2/
LOCATION:Medway WaterSports Centre\, Strand Approach Rd\, Gillingham\, Kent\, ME7 1TT\, United Kingdom
CATEGORIES:Dinghy Sailing,Sailing
ATTACH;FMTTYPE=image/png:https://medwaywatersports.co.uk/wp-content/uploads/2014/09/Family-Sunday-sailing-2025-4-copy.png
ORGANIZER;CN="Medway WaterSports Centre":MAILTO:sails@medwaywatersports.co.uk
END:VEVENT
BEGIN:VEVENT
DTSTART;TZID=Europe/London:20250531T143000
DTEND;TZID=Europe/London:20250531T173000
DTSTAMP:20260423T193908
CREATED:20250324T124841Z
LAST-MODIFIED:20250324T124841Z
UID:34093-1748701800-1748712600@medwaywatersports.co.uk
SUMMARY:RYA OnBoard Junior Sailing
DESCRIPTION:Come and enjoy learning to sail on the tidal River Medway.  We have a fleet of toppers for you to learn the basics before venturing into our double handlers. \nYou will get 2 hours on the water but in order to enjoy the full sailing experience please arrive 30 minutes before the published session start time so that you can learn to rig your own boat. You will also need to de-rig and put the boat away so allow another 30 minutes at the end. \nThe RYA OnBoard programme offers young people the opportunity to try out sailing in a safe\, structured and fun environment. \nOpen to anyone aged 8-18\, the programme enables those taking part to experience all the excitement and relaxation that being on the water offers\, whilst at the same time teaching them a wide range of invaluable life skills\, from problem solving to leadership and teamwork. To enhance the learning experience there will also be some land based activities during the season\, particularly if the weather is poor. \nIMPORTANT: Please wear old clothes and suitable footwear i.e. trainers or water shoes. Flip flops and crocs are not suitable and you will not be allowed to participate. Also bring a towel and dry clothes to change into.
URL:https://medwaywatersports.co.uk/event/rya-onboard-junior-sailing-2-2-2-2-2/
LOCATION:Medway WaterSports Centre\, Strand Approach Rd\, Gillingham\, Kent\, ME7 1TT\, United Kingdom
CATEGORIES:Dinghy Sailing,Sailing
ATTACH;FMTTYPE=image/png:https://medwaywatersports.co.uk/wp-content/uploads/2014/09/2025-RYA-ONBOARD-2-copy.png
ORGANIZER;CN="Medway WaterSports Centre":MAILTO:sails@medwaywatersports.co.uk
END:VEVENT
BEGIN:VEVENT
DTSTART;TZID=Europe/London:20250524T090000
DTEND;TZID=Europe/London:20250524T120000
DTSTAMP:20260423T193908
CREATED:20250324T124627Z
LAST-MODIFIED:20250324T124627Z
UID:34091-1748077200-1748088000@medwaywatersports.co.uk
SUMMARY:RYA OnBoard Junior Sailing
DESCRIPTION:Come and enjoy learning to sail on the tidal River Medway.  We have a fleet of toppers for you to learn the basics before venturing into our double handlers. \nYou will get 2 hours on the water but in order to enjoy the full sailing experience please arrive 30 minutes before the published session start time so that you can learn to rig your own boat. You will also need to de-rig and put the boat away so allow another 30 minutes at the end. \nThe RYA OnBoard programme offers young people the opportunity to try out sailing in a safe\, structured and fun environment. \nOpen to anyone aged 8-18\, the programme enables those taking part to experience all the excitement and relaxation that being on the water offers\, whilst at the same time teaching them a wide range of invaluable life skills\, from problem solving to leadership and teamwork. To enhance the learning experience there will also be some land based activities during the season\, particularly if the weather is poor. \nIMPORTANT: Please wear old clothes and suitable footwear i.e. trainers or water shoes. Flip flops and crocs are not suitable and you will not be allowed to participate. Also bring a towel and dry clothes to change into.
URL:https://medwaywatersports.co.uk/event/rya-onboard-junior-sailing-2-2-2-2/
LOCATION:Medway WaterSports Centre\, Strand Approach Rd\, Gillingham\, Kent\, ME7 1TT\, United Kingdom
CATEGORIES:Dinghy Sailing,Sailing
ATTACH;FMTTYPE=image/png:https://medwaywatersports.co.uk/wp-content/uploads/2014/09/2025-RYA-ONBOARD-2-copy.png
ORGANIZER;CN="Medway WaterSports Centre":MAILTO:sails@medwaywatersports.co.uk
END:VEVENT
BEGIN:VEVENT
DTSTART;TZID=Europe/London:20250518T150000
DTEND;TZID=Europe/London:20250518T180000
DTSTAMP:20260423T193908
CREATED:20250324T134941Z
LAST-MODIFIED:20250324T134941Z
UID:34139-1747580400-1747591200@medwaywatersports.co.uk
SUMMARY:Adult Sailing
DESCRIPTION:Come and enjoy learning to sail on the tidal River Medway.  We have a fleet of toppers for you to learn the basics before venturing into our double handlers. \nFor age groups 16+ and sailors must be able to launch and recover and be able to\nright their boat from a capsize by themselves. An Instructor will be on hand to help\nwith your session. To enhance the learning experience there will also be some land based activities during the season\, particularly if the weather is poor. \nYou will get 2 hours on the water but in order to enjoy the full sailing experience please arrive 30 minutes before the published session start time so that you can learn to rig your own boat. You will also need to de-rig and put the boat away so allow another 30 minutes at the end. \nIMPORTANT: Please wear old clothes and suitable footwear i.e. trainers or water\nshoes. Flip flops and crocs are not suitable and you will not be allowed to\nparticipate. Also bring a towel and dry clothes to change into.
URL:https://medwaywatersports.co.uk/event/adult-sailing-2/
LOCATION:Medway WaterSports Centre\, Strand Approach Rd\, Gillingham\, Kent\, ME7 1TT\, United Kingdom
CATEGORIES:Dinghy Sailing,Sailing
ATTACH;FMTTYPE=image/png:https://medwaywatersports.co.uk/wp-content/uploads/2014/09/Sunday-Sailing-2025.png
ORGANIZER;CN="Medway WaterSports Centre":MAILTO:sails@medwaywatersports.co.uk
END:VEVENT
BEGIN:VEVENT
DTSTART;TZID=Europe/London:20250517T143000
DTEND;TZID=Europe/London:20250517T173000
DTSTAMP:20260423T193908
CREATED:20250324T124451Z
LAST-MODIFIED:20250324T124451Z
UID:34089-1747492200-1747503000@medwaywatersports.co.uk
SUMMARY:RYA OnBoard Junior Sailing
DESCRIPTION:Come and enjoy learning to sail on the tidal River Medway.  We have a fleet of toppers for you to learn the basics before venturing into our double handlers. \nYou will get 2 hours on the water but in order to enjoy the full sailing experience please arrive 30 minutes before the published session start time so that you can learn to rig your own boat. You will also need to de-rig and put the boat away so allow another 30 minutes at the end. \nThe RYA OnBoard programme offers young people the opportunity to try out sailing in a safe\, structured and fun environment. \nOpen to anyone aged 8-18\, the programme enables those taking part to experience all the excitement and relaxation that being on the water offers\, whilst at the same time teaching them a wide range of invaluable life skills\, from problem solving to leadership and teamwork. To enhance the learning experience there will also be some land based activities during the season\, particularly if the weather is poor. \nIMPORTANT: Please wear old clothes and suitable footwear i.e. trainers or water shoes. Flip flops and crocs are not suitable and you will not be allowed to participate. Also bring a towel and dry clothes to change into.
URL:https://medwaywatersports.co.uk/event/rya-onboard-junior-sailing-2-2-2/
LOCATION:Medway WaterSports Centre\, Strand Approach Rd\, Gillingham\, Kent\, ME7 1TT\, United Kingdom
CATEGORIES:Dinghy Sailing,Sailing
ATTACH;FMTTYPE=image/png:https://medwaywatersports.co.uk/wp-content/uploads/2014/09/2025-RYA-ONBOARD-2-copy.png
ORGANIZER;CN="Medway WaterSports Centre":MAILTO:sails@medwaywatersports.co.uk
END:VEVENT
BEGIN:VEVENT
DTSTART;TZID=Europe/London:20250511T110000
DTEND;TZID=Europe/London:20250511T140000
DTSTAMP:20260423T193908
CREATED:20250324T132651Z
LAST-MODIFIED:20250324T132651Z
UID:34125-1746961200-1746972000@medwaywatersports.co.uk
SUMMARY:Family Sailing - 2 Adults + 2 Children
DESCRIPTION:Come and enjoy learning to sail on the tidal River Medway.  We have a fleet of toppers for you to learn the basics before venturing into our double handlers. \nFamily ticket covers 2 adults and 2 children (age 8-16). \nSailors must be able to launch and recover and be able to\nright their boat from a capsize by themselves. An Instructor will be on hand to help with your session. \nTo enhance the learning experience there will also be some land based activities during the season\, particularly if the weather is poor. \nAll children in the family group MUST participate in the sailing.  We cannot permit children under the age of 16 to be left on shore or in the Centre without an adult from their own group to supervise them.  Our insurance and safe guarding regulations do not permit this. \nYou will get 2 hours on the water but in order to enjoy the full sailing experience please arrive 30 minutes before the published session start time so that you can learn to rig your own boat. You will also need to de-rig and put the boat away so allow another 30 minutes at the end. \nIMPORTANT: Please wear old clothes and suitable footwear i.e. trainers or water\nshoes. Flip flops and crocs are not suitable and you will not be allowed to\nparticipate. Also bring a towel and dry clothes to change into.
URL:https://medwaywatersports.co.uk/event/family-sailing-2-adults-2-children-2/
LOCATION:Medway WaterSports Centre\, Strand Approach Rd\, Gillingham\, Kent\, ME7 1TT\, United Kingdom
CATEGORIES:Dinghy Sailing,Sailing
ATTACH;FMTTYPE=image/png:https://medwaywatersports.co.uk/wp-content/uploads/2014/09/Family-Sunday-sailing-2025-4-copy.png
ORGANIZER;CN="Medway WaterSports Centre":MAILTO:sails@medwaywatersports.co.uk
END:VEVENT
BEGIN:VEVENT
DTSTART;TZID=Europe/London:20250510T103000
DTEND;TZID=Europe/London:20250510T133000
DTSTAMP:20260423T193908
CREATED:20250324T124256Z
LAST-MODIFIED:20250324T124256Z
UID:34087-1746873000-1746883800@medwaywatersports.co.uk
SUMMARY:RYA OnBoard Junior Sailing
DESCRIPTION:Come and enjoy learning to sail on the tidal River Medway.  We have a fleet of toppers for you to learn the basics before venturing into our double handlers. \nYou will get 2 hours on the water but in order to enjoy the full sailing experience please arrive 30 minutes before the published session start time so that you can learn to rig your own boat. You will also need to de-rig and put the boat away so allow another 30 minutes at the end. \nThe RYA OnBoard programme offers young people the opportunity to try out sailing in a safe\, structured and fun environment. \nOpen to anyone aged 8-18\, the programme enables those taking part to experience all the excitement and relaxation that being on the water offers\, whilst at the same time teaching them a wide range of invaluable life skills\, from problem solving to leadership and teamwork. To enhance the learning experience there will also be some land based activities during the season\, particularly if the weather is poor. \nIMPORTANT: Please wear old clothes and suitable footwear i.e. trainers or water shoes. Flip flops and crocs are not suitable and you will not be allowed to participate. Also bring a towel and dry clothes to change into.
URL:https://medwaywatersports.co.uk/event/rya-onboard-junior-sailing-2-2/
LOCATION:Medway WaterSports Centre\, Strand Approach Rd\, Gillingham\, Kent\, ME7 1TT\, United Kingdom
CATEGORIES:Dinghy Sailing,Sailing
ATTACH;FMTTYPE=image/png:https://medwaywatersports.co.uk/wp-content/uploads/2014/09/2025-RYA-ONBOARD-2-copy.png
ORGANIZER;CN="Medway WaterSports Centre":MAILTO:sails@medwaywatersports.co.uk
END:VEVENT
BEGIN:VEVENT
DTSTART;TZID=Europe/London:20250427T110000
DTEND;TZID=Europe/London:20250427T140000
DTSTAMP:20260423T193908
CREATED:20250324T134749Z
LAST-MODIFIED:20250324T134749Z
UID:34137-1745751600-1745762400@medwaywatersports.co.uk
SUMMARY:Adult Sailing
DESCRIPTION:Come and enjoy learning to sail on the tidal River Medway.  We have a fleet of toppers for you to learn the basics before venturing into our double handlers. \nFor age groups 16+ and sailors must be able to launch and recover and be able to\nright their boat from a capsize by themselves. An Instructor will be on hand to help\nwith your session. To enhance the learning experience there will also be some land based activities during the season\, particularly if the weather is poor. \nYou will get 2 hours on the water but in order to enjoy the full sailing experience please arrive 30 minutes before the published session start time so that you can learn to rig your own boat. You will also need to de-rig and put the boat away so allow another 30 minutes at the end. \nIMPORTANT: Please wear old clothes and suitable footwear i.e. trainers or water\nshoes. Flip flops and crocs are not suitable and you will not be allowed to\nparticipate. Also bring a towel and dry clothes to change into.
URL:https://medwaywatersports.co.uk/event/adult-sailing/
LOCATION:Medway WaterSports Centre\, Strand Approach Rd\, Gillingham\, Kent\, ME7 1TT\, United Kingdom
CATEGORIES:Dinghy Sailing,Sailing
ATTACH;FMTTYPE=image/png:https://medwaywatersports.co.uk/wp-content/uploads/2014/09/Sunday-Sailing-2025.png
ORGANIZER;CN="Medway WaterSports Centre":MAILTO:sails@medwaywatersports.co.uk
END:VEVENT
BEGIN:VEVENT
DTSTART;TZID=Europe/London:20250426T103000
DTEND;TZID=Europe/London:20250426T133000
DTSTAMP:20260423T193908
CREATED:20250324T124103Z
LAST-MODIFIED:20250324T124103Z
UID:34085-1745663400-1745674200@medwaywatersports.co.uk
SUMMARY:RYA OnBoard Junior Sailing
DESCRIPTION:Come and enjoy learning to sail on the tidal River Medway.  We have a fleet of toppers for you to learn the basics before venturing into our double handlers. \nYou will get 2 hours on the water but in order to enjoy the full sailing experience please arrive 30 minutes before the published session start time so that you can learn to rig your own boat. You will also need to de-rig and put the boat away so allow another 30 minutes at the end. \nThe RYA OnBoard programme offers young people the opportunity to try out sailing in a safe\, structured and fun environment. \nOpen to anyone aged 8-18\, the programme enables those taking part to experience all the excitement and relaxation that being on the water offers\, whilst at the same time teaching them a wide range of invaluable life skills\, from problem solving to leadership and teamwork. To enhance the learning experience there will also be some land based activities during the season\, particularly if the weather is poor. \nIMPORTANT: Please wear old clothes and suitable footwear i.e. trainers or water shoes. Flip flops and crocs are not suitable and you will not be allowed to participate. Also bring a towel and dry clothes to change into.
URL:https://medwaywatersports.co.uk/event/rya-onboard-junior-sailing-2/
LOCATION:Medway WaterSports Centre\, Strand Approach Rd\, Gillingham\, Kent\, ME7 1TT\, United Kingdom
CATEGORIES:Dinghy Sailing,Sailing
ATTACH;FMTTYPE=image/png:https://medwaywatersports.co.uk/wp-content/uploads/2014/09/2025-RYA-ONBOARD-2-copy.png
ORGANIZER;CN="Medway WaterSports Centre":MAILTO:sails@medwaywatersports.co.uk
END:VEVENT
END:VCALENDAR