BEGIN:VCALENDAR
VERSION:2.0
PRODID:-//Medway Watersports - ECPv6.15.20//NONSGML v1.0//EN
CALSCALE:GREGORIAN
METHOD:PUBLISH
X-ORIGINAL-URL:https://medwaywatersports.co.uk
X-WR-CALDESC:Events for Medway Watersports
REFRESH-INTERVAL;VALUE=DURATION:PT1H
X-Robots-Tag:noindex
X-PUBLISHED-TTL:PT1H
BEGIN:VTIMEZONE
TZID:Europe/London
BEGIN:DAYLIGHT
TZOFFSETFROM:+0000
TZOFFSETTO:+0100
TZNAME:BST
DTSTART:20250330T010000
END:DAYLIGHT
BEGIN:STANDARD
TZOFFSETFROM:+0100
TZOFFSETTO:+0000
TZNAME:GMT
DTSTART:20251026T010000
END:STANDARD
BEGIN:DAYLIGHT
TZOFFSETFROM:+0000
TZOFFSETTO:+0100
TZNAME:BST
DTSTART:20260329T010000
END:DAYLIGHT
BEGIN:STANDARD
TZOFFSETFROM:+0100
TZOFFSETTO:+0000
TZNAME:GMT
DTSTART:20261025T010000
END:STANDARD
BEGIN:DAYLIGHT
TZOFFSETFROM:+0000
TZOFFSETTO:+0100
TZNAME:BST
DTSTART:20270328T010000
END:DAYLIGHT
BEGIN:STANDARD
TZOFFSETFROM:+0100
TZOFFSETTO:+0000
TZNAME:GMT
DTSTART:20271031T010000
END:STANDARD
END:VTIMEZONE
BEGIN:VEVENT
DTSTART;TZID=Europe/London:20260809T090000
DTEND;TZID=Europe/London:20260809T120000
DTSTAMP:20260423T224028
CREATED:20260223T185918Z
LAST-MODIFIED:20260323T155947Z
UID:34732-1786266000-1786276800@medwaywatersports.co.uk
SUMMARY:Adult Sunday Sailing
DESCRIPTION:Regular session opportunities to practice and refine your sailing skills on the River Medway (tidal) with an experience that’s fun\, confidence‑building\, and designed to get you genuinely hands‑on from day one. If you’re a beginner you may start in our lively fleet of Toppers\, perfect for mastering the basics\, before moving on to our double‑handed boats as your skills and enthusiasm grow.\nWhat makes this experience special\nOur sessions are built around real time on the water\, supported by friendly instructors who keep things safe\, relaxed\, and encouraging. Even when the weather isn’t ideal\, the learning continues with engaging land‑based activities that help you understand sailing from every angle.\n👥 Who can join\n• Ages 16+\n• Able to launch and recover a boat independently\n• Able to right a capsized boat without assistance\nAn instructor will always be close by to guide you and help you progress at your own pace.\n⏱️ How your session runs\nYou’ll enjoy 2 full hours on the water\, but the full experience is a little longer:\n• Arrive 30 minutes early to learn how to rig your own boat\n• Allow 30 minutes afterwards to de‑rig and pack away\nThis extra time helps you build real sailing know‑how and confidence.\n👟 What to wear and bring\nTo stay safe and comfortable:\n• Wear old clothes you don’t mind getting wet\n• Bring trainers or water shoes\n• Flip‑flops and Crocs aren’t allowed for safety reasons and you won’t be able to participate without proper footwear.\n• Bring a towel and dry clothes for afterwards as you are likely to get wet! \n 
URL:https://medwaywatersports.co.uk/event/adult-sailing-2-2-2-2-2-2-2-2-2-2-2-2-2-2-2-2-2-2-2-2/
LOCATION:Medway WaterSports Centre\, Strand Approach Rd\, Gillingham\, Kent\, ME7 1TT\, United Kingdom
CATEGORIES:Sailing
ATTACH;FMTTYPE=image/png:https://medwaywatersports.co.uk/wp-content/uploads/2026/02/Adult-Sunday-Sail-2026.png
ORGANIZER;CN="Medway WaterSports Centre":MAILTO:sails@medwaywatersports.co.uk
END:VEVENT
END:VCALENDAR