BEGIN:VCALENDAR
VERSION:2.0
PRODID:-//Medway Watersports - ECPv6.15.20//NONSGML v1.0//EN
CALSCALE:GREGORIAN
METHOD:PUBLISH
X-WR-CALNAME:Medway Watersports
X-ORIGINAL-URL:https://medwaywatersports.co.uk
X-WR-CALDESC:Events for Medway Watersports
REFRESH-INTERVAL;VALUE=DURATION:PT1H
X-Robots-Tag:noindex
X-PUBLISHED-TTL:PT1H
BEGIN:VTIMEZONE
TZID:Europe/London
BEGIN:DAYLIGHT
TZOFFSETFROM:+0000
TZOFFSETTO:+0100
TZNAME:BST
DTSTART:20240331T010000
END:DAYLIGHT
BEGIN:STANDARD
TZOFFSETFROM:+0100
TZOFFSETTO:+0000
TZNAME:GMT
DTSTART:20241027T010000
END:STANDARD
BEGIN:DAYLIGHT
TZOFFSETFROM:+0000
TZOFFSETTO:+0100
TZNAME:BST
DTSTART:20250330T010000
END:DAYLIGHT
BEGIN:STANDARD
TZOFFSETFROM:+0100
TZOFFSETTO:+0000
TZNAME:GMT
DTSTART:20251026T010000
END:STANDARD
BEGIN:DAYLIGHT
TZOFFSETFROM:+0000
TZOFFSETTO:+0100
TZNAME:BST
DTSTART:20260329T010000
END:DAYLIGHT
BEGIN:STANDARD
TZOFFSETFROM:+0100
TZOFFSETTO:+0000
TZNAME:GMT
DTSTART:20261025T010000
END:STANDARD
END:VTIMEZONE
BEGIN:VEVENT
DTSTART;TZID=Europe/London:20250714T163000
DTEND;TZID=Europe/London:20250714T183000
DTSTAMP:20260424T014134
CREATED:20250324T122007Z
LAST-MODIFIED:20250324T122007Z
UID:34079-1752510600-1752517800@medwaywatersports.co.uk
SUMMARY:Multi Activity Kids Club
DESCRIPTION:This week: Kayaking \nThis is a nine week after school programme covering activities such as kayaking\, initiative games\, canoeing\, bushcraft skills\, sailing\, SUP and orienteering\, with Feast on a Fire for the\nlast session. A great opportunity to have fun and make new friends. \nAges 8-13 \nIMPORTANT: Please wear old clothes and suitable footwear i.e. trainers or water\nshoes. Flip flops and crocs are not suitable and you will not be allowed to\nparticipate. Also bring a towel and dry clothes to change into.
URL:https://medwaywatersports.co.uk/event/multi-activity-kids-club-16th-october-2023-1630-1830__trashed-2-2-2-2-2-2-2-2-2__trashed-2-2-2-2-2-2-2-2-2/
LOCATION:Medway WaterSports Centre\, Strand Approach Rd\, Gillingham\, Kent\, ME7 1TT\, United Kingdom
CATEGORIES:Multi Activity
ATTACH;FMTTYPE=image/png:https://medwaywatersports.co.uk/wp-content/uploads/2023/06/A048328C-9E46-43D5-B28F-ED9B0C8108A5.png
ORGANIZER;CN="Medway WaterSports Centre":MAILTO:sails@medwaywatersports.co.uk
END:VEVENT
BEGIN:VEVENT
DTSTART;TZID=Europe/London:20250707T163000
DTEND;TZID=Europe/London:20250707T183000
DTSTAMP:20260424T014134
CREATED:20250324T121820Z
LAST-MODIFIED:20250324T121820Z
UID:34077-1751905800-1751913000@medwaywatersports.co.uk
SUMMARY:Multi Activity Kids Club
DESCRIPTION:This week: Initiative Games \nThis is a nine week after school programme covering activities such as kayaking\, initiative games\, canoeing\, bushcraft skills\, sailing\, SUP and orienteering\, with Feast on a Fire for the\nlast session. A great opportunity to have fun and make new friends. \nAges 8-13 \nIMPORTANT: Please wear old clothes and suitable footwear i.e. trainers or water\nshoes. Flip flops and crocs are not suitable and you will not be allowed to\nparticipate. Also bring a towel and dry clothes to change into.
URL:https://medwaywatersports.co.uk/event/multi-activity-kids-club-16th-october-2023-1630-1830__trashed-2-2-2-2-2-2-2-2-2__trashed-2-2-2-2-2-2-2-2/
LOCATION:Medway WaterSports Centre\, Strand Approach Rd\, Gillingham\, Kent\, ME7 1TT\, United Kingdom
CATEGORIES:Multi Activity
ATTACH;FMTTYPE=image/png:https://medwaywatersports.co.uk/wp-content/uploads/2023/06/A048328C-9E46-43D5-B28F-ED9B0C8108A5.png
ORGANIZER;CN="Medway WaterSports Centre":MAILTO:sails@medwaywatersports.co.uk
END:VEVENT
BEGIN:VEVENT
DTSTART;TZID=Europe/London:20250630T163000
DTEND;TZID=Europe/London:20250630T183000
DTSTAMP:20260424T014134
CREATED:20250324T121626Z
LAST-MODIFIED:20250324T121626Z
UID:34075-1751301000-1751308200@medwaywatersports.co.uk
SUMMARY:Multi Activity Kids Club
DESCRIPTION:This week: Sailing \nThis is a nine week after school programme covering activities such as kayaking\, initiative games\, canoeing\, bushcraft skills\, sailing\, SUP and orienteering\, with Feast on a Fire for the\nlast session. A great opportunity to have fun and make new friends. \nAges 8-13 \nIMPORTANT: Please wear old clothes and suitable footwear i.e. trainers or water\nshoes. Flip flops and crocs are not suitable and you will not be allowed to\nparticipate. Also bring a towel and dry clothes to change into.
URL:https://medwaywatersports.co.uk/event/multi-activity-kids-club-16th-october-2023-1630-1830__trashed-2-2-2-2-2-2-2-2-2__trashed-2-2-2-2-2-2-2/
LOCATION:Medway WaterSports Centre\, Strand Approach Rd\, Gillingham\, Kent\, ME7 1TT\, United Kingdom
CATEGORIES:Multi Activity
ATTACH;FMTTYPE=image/png:https://medwaywatersports.co.uk/wp-content/uploads/2023/06/A048328C-9E46-43D5-B28F-ED9B0C8108A5.png
ORGANIZER;CN="Medway WaterSports Centre":MAILTO:sails@medwaywatersports.co.uk
END:VEVENT
BEGIN:VEVENT
DTSTART;TZID=Europe/London:20250623T163000
DTEND;TZID=Europe/London:20250623T183000
DTSTAMP:20260424T014134
CREATED:20250324T121457Z
LAST-MODIFIED:20250324T121457Z
UID:34073-1750696200-1750703400@medwaywatersports.co.uk
SUMMARY:Multi Activity Kids Club
DESCRIPTION:This week: Orienteering \nThis is a nine week after school programme covering activities such as kayaking\, initiative games\, canoeing\, bushcraft skills\, sailing\, SUP and orienteering\, with Feast on a Fire for the\nlast session. A great opportunity to have fun and make new friends. \nAges 8-13 \nIMPORTANT: Please wear old clothes and suitable footwear i.e. trainers or water\nshoes. Flip flops and crocs are not suitable and you will not be allowed to\nparticipate. Also bring a towel and dry clothes to change into.
URL:https://medwaywatersports.co.uk/event/multi-activity-kids-club-16th-october-2023-1630-1830__trashed-2-2-2-2-2-2-2-2-2__trashed-2-2-2-2-2-2/
LOCATION:Medway WaterSports Centre\, Strand Approach Rd\, Gillingham\, Kent\, ME7 1TT\, United Kingdom
CATEGORIES:Multi Activity
ATTACH;FMTTYPE=image/png:https://medwaywatersports.co.uk/wp-content/uploads/2023/06/A048328C-9E46-43D5-B28F-ED9B0C8108A5.png
ORGANIZER;CN="Medway WaterSports Centre":MAILTO:sails@medwaywatersports.co.uk
END:VEVENT
BEGIN:VEVENT
DTSTART;TZID=Europe/London:20250616T163000
DTEND;TZID=Europe/London:20250616T183000
DTSTAMP:20260424T014134
CREATED:20250324T121312Z
LAST-MODIFIED:20250324T121312Z
UID:34071-1750091400-1750098600@medwaywatersports.co.uk
SUMMARY:Multi Activity Kids Club
DESCRIPTION:This week: Canoeing \nThis is a nine week after school programme covering activities such as kayaking\, initiative games\, canoeing\, bushcraft skills\, sailing\, SUP and orienteering\, with Feast on a Fire for the\nlast session. A great opportunity to have fun and make new friends. \nAges 8-13 \nIMPORTANT: Please wear old clothes and suitable footwear i.e. trainers or water\nshoes. Flip flops and crocs are not suitable and you will not be allowed to\nparticipate. Also bring a towel and dry clothes to change into.
URL:https://medwaywatersports.co.uk/event/multi-activity-kids-club-16th-october-2023-1630-1830__trashed-2-2-2-2-2-2-2-2-2__trashed-2-2-2-2-2/
LOCATION:Medway WaterSports Centre\, Strand Approach Rd\, Gillingham\, Kent\, ME7 1TT\, United Kingdom
CATEGORIES:Multi Activity
ATTACH;FMTTYPE=image/png:https://medwaywatersports.co.uk/wp-content/uploads/2023/06/A048328C-9E46-43D5-B28F-ED9B0C8108A5.png
ORGANIZER;CN="Medway WaterSports Centre":MAILTO:sails@medwaywatersports.co.uk
END:VEVENT
BEGIN:VEVENT
DTSTART;TZID=Europe/London:20250609T163000
DTEND;TZID=Europe/London:20250609T183000
DTSTAMP:20260424T014134
CREATED:20250324T121131Z
LAST-MODIFIED:20250324T121131Z
UID:34069-1749486600-1749493800@medwaywatersports.co.uk
SUMMARY:Multi Activity Kids Club
DESCRIPTION:This week: Campfires \nThis is a nine week after school programme covering activities such as kayaking\, initiative games\, canoeing\, bushcraft skills\, sailing\, SUP and orienteering\, with Feast on a Fire for the\nlast session. A great opportunity to have fun and make new friends. \nAges 8-13 \nIMPORTANT: Please wear old clothes and suitable footwear i.e. trainers or water\nshoes. Flip flops and crocs are not suitable and you will not be allowed to\nparticipate. Also bring a towel and dry clothes to change into.
URL:https://medwaywatersports.co.uk/event/multi-activity-kids-club-16th-october-2023-1630-1830__trashed-2-2-2-2-2-2-2-2-2__trashed-2-2-2-2/
LOCATION:Medway WaterSports Centre\, Strand Approach Rd\, Gillingham\, Kent\, ME7 1TT\, United Kingdom
CATEGORIES:Multi Activity
ATTACH;FMTTYPE=image/png:https://medwaywatersports.co.uk/wp-content/uploads/2023/06/A048328C-9E46-43D5-B28F-ED9B0C8108A5.png
ORGANIZER;CN="Medway WaterSports Centre":MAILTO:sails@medwaywatersports.co.uk
END:VEVENT
BEGIN:VEVENT
DTSTART;TZID=Europe/London:20250602T163000
DTEND;TZID=Europe/London:20250602T183000
DTSTAMP:20260424T014134
CREATED:20250324T120915Z
LAST-MODIFIED:20250324T120915Z
UID:34067-1748881800-1748889000@medwaywatersports.co.uk
SUMMARY:Multi Activity Kids Club
DESCRIPTION:This week: Kayaking \nThis is a nine week after school programme covering activities such as kayaking\, initiative games\, canoeing\, bushcraft skills\, sailing\, SUP and orienteering\, with Feast on a Fire for the\nlast session. A great opportunity to have fun and make new friends. \nAges 8-13 \nIMPORTANT: Please wear old clothes and suitable footwear i.e. trainers or water\nshoes. Flip flops and crocs are not suitable and you will not be allowed to\nparticipate. Also bring a towel and dry clothes to change into.
URL:https://medwaywatersports.co.uk/event/multi-activity-kids-club-16th-october-2023-1630-1830__trashed-2-2-2-2-2-2-2-2-2__trashed-2-2-2/
LOCATION:Medway WaterSports Centre\, Strand Approach Rd\, Gillingham\, Kent\, ME7 1TT\, United Kingdom
CATEGORIES:Multi Activity
ATTACH;FMTTYPE=image/png:https://medwaywatersports.co.uk/wp-content/uploads/2023/06/A048328C-9E46-43D5-B28F-ED9B0C8108A5.png
ORGANIZER;CN="Medway WaterSports Centre":MAILTO:sails@medwaywatersports.co.uk
END:VEVENT
BEGIN:VEVENT
DTSTART;TZID=Europe/London:20250519T163000
DTEND;TZID=Europe/London:20250519T183000
DTSTAMP:20260424T014134
CREATED:20250324T120747Z
LAST-MODIFIED:20250324T120747Z
UID:34065-1747672200-1747679400@medwaywatersports.co.uk
SUMMARY:Multi Activity Kids Club
DESCRIPTION:This week: Sailing \nThis is a nine week after school programme covering activities such as kayaking\, initiative games\, canoeing\, bushcraft skills\, sailing\, SUP and orienteering\, with Feast on a Fire for the\nlast session. A great opportunity to have fun and make new friends. \nAges 8-13 \nIMPORTANT: Please wear old clothes and suitable footwear i.e. trainers or water\nshoes. Flip flops and crocs are not suitable and you will not be allowed to\nparticipate. Also bring a towel and dry clothes to change into.
URL:https://medwaywatersports.co.uk/event/multi-activity-kids-club-16th-october-2023-1630-1830__trashed-2-2-2-2-2-2-2-2-2__trashed-2-2/
LOCATION:Medway WaterSports Centre\, Strand Approach Rd\, Gillingham\, Kent\, ME7 1TT\, United Kingdom
CATEGORIES:Multi Activity
ATTACH;FMTTYPE=image/png:https://medwaywatersports.co.uk/wp-content/uploads/2023/06/A048328C-9E46-43D5-B28F-ED9B0C8108A5.png
ORGANIZER;CN="Medway WaterSports Centre":MAILTO:sails@medwaywatersports.co.uk
END:VEVENT
BEGIN:VEVENT
DTSTART;TZID=Europe/London:20250512T163000
DTEND;TZID=Europe/London:20250512T183000
DTSTAMP:20260424T014134
CREATED:20250324T120550Z
LAST-MODIFIED:20250324T120550Z
UID:34063-1747067400-1747074600@medwaywatersports.co.uk
SUMMARY:Multi Activity Kids Club
DESCRIPTION:This week: Strand Quiz \nThis is a nine week after school programme covering activities such as kayaking\, initiative games\, canoeing\, bushcraft skills\, sailing\, SUP and orienteering\, with Feast on a Fire for the\nlast session. A great opportunity to have fun and make new friends. \nAges 8-13 \nIMPORTANT: Please wear old clothes and suitable footwear i.e. trainers or water\nshoes. Flip flops and crocs are not suitable and you will not be allowed to\nparticipate. Also bring a towel and dry clothes to change into.
URL:https://medwaywatersports.co.uk/event/multi-activity-kids-club-16th-october-2023-1630-1830__trashed-2-2-2-2-2-2-2-2-2__trashed-2/
LOCATION:Medway WaterSports Centre\, Strand Approach Rd\, Gillingham\, Kent\, ME7 1TT\, United Kingdom
CATEGORIES:Multi Activity
ATTACH;FMTTYPE=image/png:https://medwaywatersports.co.uk/wp-content/uploads/2023/06/A048328C-9E46-43D5-B28F-ED9B0C8108A5.png
ORGANIZER;CN="Medway WaterSports Centre":MAILTO:sails@medwaywatersports.co.uk
END:VEVENT
END:VCALENDAR