BEGIN:VCALENDAR
VERSION:2.0
PRODID:-//Medway Watersports - ECPv6.15.20//NONSGML v1.0//EN
CALSCALE:GREGORIAN
METHOD:PUBLISH
X-WR-CALNAME:Medway Watersports
X-ORIGINAL-URL:https://medwaywatersports.co.uk
X-WR-CALDESC:Events for Medway Watersports
REFRESH-INTERVAL;VALUE=DURATION:PT1H
X-Robots-Tag:noindex
X-PUBLISHED-TTL:PT1H
BEGIN:VTIMEZONE
TZID:Europe/London
BEGIN:DAYLIGHT
TZOFFSETFROM:+0000
TZOFFSETTO:+0100
TZNAME:BST
DTSTART:20240331T010000
END:DAYLIGHT
BEGIN:STANDARD
TZOFFSETFROM:+0100
TZOFFSETTO:+0000
TZNAME:GMT
DTSTART:20241027T010000
END:STANDARD
BEGIN:DAYLIGHT
TZOFFSETFROM:+0000
TZOFFSETTO:+0100
TZNAME:BST
DTSTART:20250330T010000
END:DAYLIGHT
BEGIN:STANDARD
TZOFFSETFROM:+0100
TZOFFSETTO:+0000
TZNAME:GMT
DTSTART:20251026T010000
END:STANDARD
BEGIN:DAYLIGHT
TZOFFSETFROM:+0000
TZOFFSETTO:+0100
TZNAME:BST
DTSTART:20260329T010000
END:DAYLIGHT
BEGIN:STANDARD
TZOFFSETFROM:+0100
TZOFFSETTO:+0000
TZNAME:GMT
DTSTART:20261025T010000
END:STANDARD
BEGIN:DAYLIGHT
TZOFFSETFROM:+0000
TZOFFSETTO:+0100
TZNAME:BST
DTSTART:20270328T010000
END:DAYLIGHT
BEGIN:STANDARD
TZOFFSETFROM:+0100
TZOFFSETTO:+0000
TZNAME:GMT
DTSTART:20271031T010000
END:STANDARD
END:VTIMEZONE
BEGIN:VEVENT
DTSTART;TZID=Europe/London:20260422T190000
DTEND;TZID=Europe/London:20260422T210000
DTSTAMP:20260423T182352
CREATED:20260207T142041Z
LAST-MODIFIED:20260419T132635Z
UID:34537-1776884400-1776891600@medwaywatersports.co.uk
SUMMARY:Adult Kayaking 22/04/2026 19.00 - 21.00
DESCRIPTION:Why not join us in the evening for a fun evening paddle exploring the River Medway. \nA great opportunity to make the most of the summer season and meet new people. \nPlease bring along a head torch for this session. \nIMPORTANT: Please wear old clothes and suitable footwear i.e. trainers or water\nshoes. Flip flops and crocs are not suitable and you will not be allowed to\nparticipate. Also bring a towel and dry clothes to change into.
URL:https://medwaywatersports.co.uk/event/adult-kayaking-22-04-2026-19-00-21-00/
LOCATION:Medway WaterSports Centre\, Strand Approach Rd\, Gillingham\, Kent\, ME7 1TT\, United Kingdom
CATEGORIES:Kayaking
ATTACH;FMTTYPE=image/png:https://medwaywatersports.co.uk/wp-content/uploads/2026/02/Aduly-Kayak-2026.png
ORGANIZER;CN="Medway WaterSports Centre":MAILTO:sails@medwaywatersports.co.uk
END:VEVENT
BEGIN:VEVENT
DTSTART;TZID=Europe/London:20251015T190000
DTEND;TZID=Europe/London:20251015T190000
DTSTAMP:20260423T182352
CREATED:20250324T120017Z
LAST-MODIFIED:20250324T120017Z
UID:34061-1760554800-1760554800@medwaywatersports.co.uk
SUMMARY:Adult Kayaking - Night Paddle
DESCRIPTION:Why not join us in the evening for a fun night paddle exploring the River Medway. \nA great opportunity to make the most of the end of the summer season and meet new people. \nIn the case of inclement weather where it is not possible to get on the water\, we will provide land based learning and activities. \nThe night paddles are for experienced paddlers only and please bring along a head torch. \nIMPORTANT: Please wear old clothes and suitable footwear i.e. trainers or water\nshoes. Flip flops and crocs are not suitable and you will not be allowed to\nparticipate. Also bring a towel and dry clothes to change into.
URL:https://medwaywatersports.co.uk/event/adult-kayaking-2-2-2-2-2-2-2-2-2-2-2/
LOCATION:Medway WaterSports Centre\, Strand Approach Rd\, Gillingham\, Kent\, ME7 1TT\, United Kingdom
CATEGORIES:Kayaking
ATTACH;FMTTYPE=image/png:https://medwaywatersports.co.uk/wp-content/uploads/2014/09/Night-Paddle-2025-copy.png
ORGANIZER;CN="Medway WaterSports Centre":MAILTO:sails@medwaywatersports.co.uk
END:VEVENT
BEGIN:VEVENT
DTSTART;TZID=Europe/London:20251001T190000
DTEND;TZID=Europe/London:20251001T190000
DTSTAMP:20260423T182352
CREATED:20250324T115855Z
LAST-MODIFIED:20250324T115855Z
UID:34059-1759345200-1759345200@medwaywatersports.co.uk
SUMMARY:Adult Kayaking - Night Paddle
DESCRIPTION:Why not join us in the evening for a fun night paddle exploring the River Medway. \nA great opportunity to make the most of the end of the summer season and meet new people. \nIn the case of inclement weather where it is not possible to get on the water\, we will provide land based learning and activities. \nThe night paddles are for experienced paddlers only and please bring along a head torch. \nIMPORTANT: Please wear old clothes and suitable footwear i.e. trainers or water\nshoes. Flip flops and crocs are not suitable and you will not be allowed to\nparticipate. Also bring a towel and dry clothes to change into.
URL:https://medwaywatersports.co.uk/event/adult-kayaking-2-2-2-2-2-2-2-2-2-2/
LOCATION:Medway WaterSports Centre\, Strand Approach Rd\, Gillingham\, Kent\, ME7 1TT\, United Kingdom
CATEGORIES:Kayaking
ATTACH;FMTTYPE=image/png:https://medwaywatersports.co.uk/wp-content/uploads/2014/09/Night-Paddle-2025-copy.png
ORGANIZER;CN="Medway WaterSports Centre":MAILTO:sails@medwaywatersports.co.uk
END:VEVENT
BEGIN:VEVENT
DTSTART;TZID=Europe/London:20250927T160000
DTEND;TZID=Europe/London:20250927T180000
DTSTAMP:20260423T182352
CREATED:20250414T213956Z
LAST-MODIFIED:20250414T213956Z
UID:34184-1758988800-1758996000@medwaywatersports.co.uk
SUMMARY:Kids Kayaking
DESCRIPTION:Join us for FREE monthly kayaking sessions at the Strand! \nMedway Sport\, in partnership with Medway Watersports Trust Ltd and funded by Active Thames\, is excited to offer the community a chance to explore the river’s fantastic water facilities and engage in unique physical activities as part of their Riverfront Community Fitness & Wellbeing initiative.Whether you’re a kid or an adult\, there’s a session for you to enjoy. Each session will run for 2 hours and MUST be pre booked via Medway Watersports website. Cut off for booking will be the evening before the session. \nIMPORTANT: Please wear old clothes and suitable footwear i.e. trainers or water\nshoes. Flip flops and crocs are not suitable and you will not be allowed to\nparticipate. Also bring a towel and dry clothes in case you get wet! 
URL:https://medwaywatersports.co.uk/event/adult-kayaking-3-2-2-2/
LOCATION:Medway WaterSports Centre\, Strand Approach Rd\, Gillingham\, Kent\, ME7 1TT\, United Kingdom
CATEGORIES:Kayaking
ATTACH;FMTTYPE=image/jpeg:https://medwaywatersports.co.uk/wp-content/uploads/2025/04/IMG_4266.jpeg
ORGANIZER;CN="Medway WaterSports Centre":MAILTO:sails@medwaywatersports.co.uk
END:VEVENT
BEGIN:VEVENT
DTSTART;TZID=Europe/London:20250915T183000
DTEND;TZID=Europe/London:20250915T203000
DTSTAMP:20260423T182352
CREATED:20250324T115445Z
LAST-MODIFIED:20250818T222729Z
UID:34057-1757961000-1757968200@medwaywatersports.co.uk
SUMMARY:Adult Kayaking
DESCRIPTION:Why not join us in the evening for a fun paddle exploring the River Medway. \nA great opportunity to make the most of the summer season and meet new people. \nIn the case of inclement weather where it is not possible to get on the water\, we will provide land based learning and activities. \nIMPORTANT: Please wear old clothes and suitable footwear i.e. trainers or water\nshoes. Flip flops and crocs are not suitable and you will not be allowed to\nparticipate. Also bring a towel and dry clothes to change into.
URL:https://medwaywatersports.co.uk/event/adult-kayaking-2-2-2-2-2-2-2-2-2/
LOCATION:Medway WaterSports Centre\, Strand Approach Rd\, Gillingham\, Kent\, ME7 1TT\, United Kingdom
CATEGORIES:Kayaking
ATTACH;FMTTYPE=image/png:https://medwaywatersports.co.uk/wp-content/uploads/2014/09/Adult-Kayaking-2025-copy.png
ORGANIZER;CN="Medway WaterSports Centre":MAILTO:sails@medwaywatersports.co.uk
END:VEVENT
BEGIN:VEVENT
DTSTART;TZID=Europe/London:20250901T183000
DTEND;TZID=Europe/London:20250901T203000
DTSTAMP:20260423T182352
CREATED:20250324T115253Z
LAST-MODIFIED:20250818T222937Z
UID:34055-1756751400-1756758600@medwaywatersports.co.uk
SUMMARY:Adult Kayaking
DESCRIPTION:Why not join us in the evening for a fun paddle exploring the River Medway. \nA great opportunity to make the most of the summer season and meet new people. \nIn the case of inclement weather where it is not possible to get on the water\, we will provide land based learning and activities. \nIMPORTANT: Please wear old clothes and suitable footwear i.e. trainers or water\nshoes. Flip flops and crocs are not suitable and you will not be allowed to\nparticipate. Also bring a towel and dry clothes to change into.
URL:https://medwaywatersports.co.uk/event/adult-kayaking-2-2-2-2-2-2-2-2/
LOCATION:Medway WaterSports Centre\, Strand Approach Rd\, Gillingham\, Kent\, ME7 1TT\, United Kingdom
CATEGORIES:Kayaking
ATTACH;FMTTYPE=image/png:https://medwaywatersports.co.uk/wp-content/uploads/2014/09/Adult-Kayaking-2025-copy.png
ORGANIZER;CN="Medway WaterSports Centre":MAILTO:sails@medwaywatersports.co.uk
END:VEVENT
BEGIN:VEVENT
DTSTART;TZID=Europe/London:20250818T190000
DTEND;TZID=Europe/London:20250818T190000
DTSTAMP:20260423T182352
CREATED:20250324T115029Z
LAST-MODIFIED:20250324T115029Z
UID:34053-1755543600-1755543600@medwaywatersports.co.uk
SUMMARY:Adult Kayaking
DESCRIPTION:Why not join us in the evening for a fun paddle exploring the River Medway. \nA great opportunity to make the most of the summer season and meet new people. \nIn the case of inclement weather where it is not possible to get on the water\, we will provide land based learning and activities. \nIMPORTANT: Please wear old clothes and suitable footwear i.e. trainers or water\nshoes. Flip flops and crocs are not suitable and you will not be allowed to\nparticipate. Also bring a towel and dry clothes to change into.
URL:https://medwaywatersports.co.uk/event/adult-kayaking-2-2-2-2-2-2-2/
LOCATION:Medway WaterSports Centre\, Strand Approach Rd\, Gillingham\, Kent\, ME7 1TT\, United Kingdom
CATEGORIES:Kayaking
ATTACH;FMTTYPE=image/png:https://medwaywatersports.co.uk/wp-content/uploads/2014/09/Adult-Kayaking-2025-copy.png
ORGANIZER;CN="Medway WaterSports Centre":MAILTO:sails@medwaywatersports.co.uk
END:VEVENT
BEGIN:VEVENT
DTSTART;TZID=Europe/London:20250804T190000
DTEND;TZID=Europe/London:20250804T190000
DTSTAMP:20260423T182352
CREATED:20250324T114853Z
LAST-MODIFIED:20250324T114853Z
UID:34051-1754334000-1754334000@medwaywatersports.co.uk
SUMMARY:Adult Kayaking
DESCRIPTION:Why not join us in the evening for a fun paddle exploring the River Medway. \nA great opportunity to make the most of the summer season and meet new people. \nIn the case of inclement weather where it is not possible to get on the water\, we will provide land based learning and activities. \nIMPORTANT: Please wear old clothes and suitable footwear i.e. trainers or water\nshoes. Flip flops and crocs are not suitable and you will not be allowed to\nparticipate. Also bring a towel and dry clothes to change into.
URL:https://medwaywatersports.co.uk/event/adult-kayaking-2-2-2-2-2-2/
LOCATION:Medway WaterSports Centre\, Strand Approach Rd\, Gillingham\, Kent\, ME7 1TT\, United Kingdom
CATEGORIES:Kayaking
ATTACH;FMTTYPE=image/png:https://medwaywatersports.co.uk/wp-content/uploads/2014/09/Adult-Kayaking-2025-copy.png
ORGANIZER;CN="Medway WaterSports Centre":MAILTO:sails@medwaywatersports.co.uk
END:VEVENT
BEGIN:VEVENT
DTSTART;TZID=Europe/London:20250726T140000
DTEND;TZID=Europe/London:20250726T160000
DTSTAMP:20260423T182352
CREATED:20250414T213836Z
LAST-MODIFIED:20250414T213836Z
UID:34182-1753538400-1753545600@medwaywatersports.co.uk
SUMMARY:Kids Kayaking
DESCRIPTION:Join us for FREE monthly kayaking sessions at the Strand! \nMedway Sport\, in partnership with Medway Watersports Trust Ltd and funded by Active Thames\, is excited to offer the community a chance to explore the river’s fantastic water facilities and engage in unique physical activities as part of their Riverfront Community Fitness & Wellbeing initiative.Whether you’re a kid or an adult\, there’s a session for you to enjoy. Each session will run for 2 hours and MUST be pre booked via Medway Watersports website. Cut off for booking will be the evening before the session. \nIMPORTANT: Please wear old clothes and suitable footwear i.e. trainers or water\nshoes. Flip flops and crocs are not suitable and you will not be allowed to\nparticipate. Also bring a towel and dry clothes in case you get wet! 
URL:https://medwaywatersports.co.uk/event/adult-kayaking-3-2-2/
LOCATION:Medway WaterSports Centre\, Strand Approach Rd\, Gillingham\, Kent\, ME7 1TT\, United Kingdom
CATEGORIES:Kayaking
ATTACH;FMTTYPE=image/jpeg:https://medwaywatersports.co.uk/wp-content/uploads/2025/04/IMG_4266.jpeg
ORGANIZER;CN="Medway WaterSports Centre":MAILTO:sails@medwaywatersports.co.uk
END:VEVENT
BEGIN:VEVENT
DTSTART;TZID=Europe/London:20250721T190000
DTEND;TZID=Europe/London:20250721T190000
DTSTAMP:20260423T182352
CREATED:20250324T114658Z
LAST-MODIFIED:20250324T114658Z
UID:34049-1753124400-1753124400@medwaywatersports.co.uk
SUMMARY:Adult Kayaking
DESCRIPTION:Why not join us in the evening for a fun paddle exploring the River Medway. \nA great opportunity to make the most of the summer season and meet new people. \nIn the case of inclement weather where it is not possible to get on the water\, we will provide land based learning and activities. \nIMPORTANT: Please wear old clothes and suitable footwear i.e. trainers or water\nshoes. Flip flops and crocs are not suitable and you will not be allowed to\nparticipate. Also bring a towel and dry clothes to change into.
URL:https://medwaywatersports.co.uk/event/adult-kayaking-2-2-2-2-2/
LOCATION:Medway WaterSports Centre\, Strand Approach Rd\, Gillingham\, Kent\, ME7 1TT\, United Kingdom
CATEGORIES:Kayaking
ATTACH;FMTTYPE=image/png:https://medwaywatersports.co.uk/wp-content/uploads/2014/09/Adult-Kayaking-2025-copy.png
ORGANIZER;CN="Medway WaterSports Centre":MAILTO:sails@medwaywatersports.co.uk
END:VEVENT
BEGIN:VEVENT
DTSTART;TZID=Europe/London:20250707T190000
DTEND;TZID=Europe/London:20250707T190000
DTSTAMP:20260423T182352
CREATED:20250324T114516Z
LAST-MODIFIED:20250324T114516Z
UID:34047-1751914800-1751914800@medwaywatersports.co.uk
SUMMARY:Adult Kayaking
DESCRIPTION:Why not join us in the evening for a fun paddle exploring the River Medway. \nA great opportunity to make the most of the summer season and meet new people. \nIn the case of inclement weather where it is not possible to get on the water\, we will provide land based learning and activities. \nIMPORTANT: Please wear old clothes and suitable footwear i.e. trainers or water\nshoes. Flip flops and crocs are not suitable and you will not be allowed to\nparticipate. Also bring a towel and dry clothes to change into.
URL:https://medwaywatersports.co.uk/event/adult-kayaking-2-2-2-2/
LOCATION:Medway WaterSports Centre\, Strand Approach Rd\, Gillingham\, Kent\, ME7 1TT\, United Kingdom
CATEGORIES:Kayaking
ATTACH;FMTTYPE=image/png:https://medwaywatersports.co.uk/wp-content/uploads/2014/09/Adult-Kayaking-2025-copy.png
ORGANIZER;CN="Medway WaterSports Centre":MAILTO:sails@medwaywatersports.co.uk
END:VEVENT
BEGIN:VEVENT
DTSTART;TZID=Europe/London:20250702T190000
DTEND;TZID=Europe/London:20250702T190000
DTSTAMP:20260423T182352
CREATED:20250324T114311Z
LAST-MODIFIED:20250324T114311Z
UID:34045-1751482800-1751482800@medwaywatersports.co.uk
SUMMARY:Adult Kayaking
DESCRIPTION:Why not join us in the evening for a fun paddle exploring the River Medway. \nA great opportunity to make the most of the summer season and meet new people. \nIn the case of inclement weather where it is not possible to get on the water\, we will provide land based learning and activities. \nIMPORTANT: Please wear old clothes and suitable footwear i.e. trainers or water\nshoes. Flip flops and crocs are not suitable and you will not be allowed to\nparticipate. Also bring a towel and dry clothes to change into.
URL:https://medwaywatersports.co.uk/event/adult-kayaking-2-2-2/
LOCATION:Medway WaterSports Centre\, Strand Approach Rd\, Gillingham\, Kent\, ME7 1TT\, United Kingdom
CATEGORIES:Kayaking
ATTACH;FMTTYPE=image/png:https://medwaywatersports.co.uk/wp-content/uploads/2014/09/Adult-Kayaking-2025-copy.png
ORGANIZER;CN="Medway WaterSports Centre":MAILTO:sails@medwaywatersports.co.uk
END:VEVENT
BEGIN:VEVENT
DTSTART;TZID=Europe/London:20250622T090000
DTEND;TZID=Europe/London:20250622T110000
DTSTAMP:20260423T182352
CREATED:20250414T213411Z
LAST-MODIFIED:20250414T213411Z
UID:34177-1750582800-1750590000@medwaywatersports.co.uk
SUMMARY:Adult Kayaking
DESCRIPTION:Join us for FREE monthly kayaking sessions at the Strand! \nMedway Sport\, in partnership with Medway Watersports Trust Ltd and funded by Active Thames\, is excited to offer the community a chance to explore the river’s fantastic water facilities and engage in unique physical activities as part of their Riverfront Community Fitness & Wellbeing initiative.Whether you’re a kid or an adult\, there’s a session for you to enjoy. Each session will run for 2 hours and MUST be pre booked via Medway Watersports website. Cut off for booking will be the evening before the session. \nIMPORTANT: Please wear old clothes and suitable footwear i.e. trainers or water\nshoes. Flip flops and crocs are not suitable and you will not be allowed to\nparticipate. Also bring a towel and dry clothes in case you get wet! 
URL:https://medwaywatersports.co.uk/event/adult-kayaking-3/
LOCATION:Medway WaterSports Centre\, Strand Approach Rd\, Gillingham\, Kent\, ME7 1TT\, United Kingdom
CATEGORIES:Kayaking
ATTACH;FMTTYPE=image/png:https://medwaywatersports.co.uk/wp-content/uploads/2025/04/IMG_4265.png
ORGANIZER;CN="Medway WaterSports Centre":MAILTO:sails@medwaywatersports.co.uk
END:VEVENT
BEGIN:VEVENT
DTSTART;TZID=Europe/London:20250618T190000
DTEND;TZID=Europe/London:20250618T190000
DTSTAMP:20260423T182352
CREATED:20250324T114124Z
LAST-MODIFIED:20250324T114124Z
UID:34043-1750273200-1750273200@medwaywatersports.co.uk
SUMMARY:Adult Kayaking
DESCRIPTION:Why not join us in the evening for a fun paddle exploring the River Medway. \nA great opportunity to make the most of the summer season and meet new people. \nIn the case of inclement weather where it is not possible to get on the water\, we will provide land based learning and activities. \nIMPORTANT: Please wear old clothes and suitable footwear i.e. trainers or water\nshoes. Flip flops and crocs are not suitable and you will not be allowed to\nparticipate. Also bring a towel and dry clothes to change into.
URL:https://medwaywatersports.co.uk/event/adult-kayaking-2-2/
LOCATION:Medway WaterSports Centre\, Strand Approach Rd\, Gillingham\, Kent\, ME7 1TT\, United Kingdom
CATEGORIES:Kayaking
ATTACH;FMTTYPE=image/png:https://medwaywatersports.co.uk/wp-content/uploads/2014/09/Adult-Kayaking-2025-copy.png
ORGANIZER;CN="Medway WaterSports Centre":MAILTO:sails@medwaywatersports.co.uk
END:VEVENT
BEGIN:VEVENT
DTSTART;TZID=Europe/London:20250604T170000
DTEND;TZID=Europe/London:20250716T190000
DTSTAMP:20260423T182352
CREATED:20250324T122918Z
LAST-MODIFIED:20250324T122918Z
UID:34081-1749056400-1752692400@medwaywatersports.co.uk
SUMMARY:Kids Paddlepower Start + Discover (6 Week Course)
DESCRIPTION:The Paddle Awards are for those new to paddlesport\, enabling you to develop the skills to feel comfortable and safe on the water. So whether you are doing this for the first time or looking to develop your skills\, there’s something for everyone! \nAwards take place on the River Medway enabling progression at your own pace and confidence level\, whilst developing both your understanding and skills in the exciting world of paddlesports. \nThis is a 6 week programme required to achieve the award standard\, therefore\, you can only purchase the complete package\, not individual weeks. \n£35 per child (Please note we do not issue certificates at the end of the course\, you will need to purchase online via British Canoeing for £6.00). \nAges 8-14 \n\n\n\nDate\nTime\nLocation\n\n\n4th June\n17:00-19.00\nStrand\n\n\n11th June\n 17:00-19.00\nGillingham Marina\n\n\n18th June\n 17:00-19.00\nStrand\n\n\n25th June\n 17:00-19.00\nGillingham Marina\n\n\n2nd July\n 17:00-19.00\nStrand\n\n\n9th July\n 17:00-19.00\nGillingham Marina\n\n\n\nThere is  reserve date of 16th July in case any of the above sessions needs to be cancelled.
URL:https://medwaywatersports.co.uk/event/kids-paddlepower-start-discover-6-week-course/
LOCATION:Medway WaterSports Centre\, Strand Approach Rd\, Gillingham\, Kent\, ME7 1TT\, United Kingdom
CATEGORIES:Canoeing,Kayaking
ATTACH;FMTTYPE=image/png:https://medwaywatersports.co.uk/wp-content/uploads/2014/09/Start-Discover-Award-2025-3-copy.png
ORGANIZER;CN="Medway WaterSports Centre":MAILTO:sails@medwaywatersports.co.uk
END:VEVENT
BEGIN:VEVENT
DTSTART;TZID=Europe/London:20250602T190000
DTEND;TZID=Europe/London:20250602T190000
DTSTAMP:20260423T182352
CREATED:20250324T113953Z
LAST-MODIFIED:20250324T113953Z
UID:34041-1748890800-1748890800@medwaywatersports.co.uk
SUMMARY:Adult Kayaking
DESCRIPTION:Why not join us in the evening for a fun paddle exploring the River Medway. \nA great opportunity to make the most of the summer season and meet new people. \nIn the case of inclement weather where it is not possible to get on the water\, we will provide land based learning and activities. \nIMPORTANT: Please wear old clothes and suitable footwear i.e. trainers or water\nshoes. Flip flops and crocs are not suitable and you will not be allowed to\nparticipate. Also bring a towel and dry clothes to change into.
URL:https://medwaywatersports.co.uk/event/adult-kayaking-2/
LOCATION:Medway WaterSports Centre\, Strand Approach Rd\, Gillingham\, Kent\, ME7 1TT\, United Kingdom
CATEGORIES:Kayaking
ATTACH;FMTTYPE=image/png:https://medwaywatersports.co.uk/wp-content/uploads/2014/09/Adult-Kayaking-2025-copy.png
ORGANIZER;CN="Medway WaterSports Centre":MAILTO:sails@medwaywatersports.co.uk
END:VEVENT
BEGIN:VEVENT
DTSTART;TZID=Europe/London:20250531T160000
DTEND;TZID=Europe/London:20250531T180000
DTSTAMP:20260423T182352
CREATED:20250414T213708Z
LAST-MODIFIED:20250414T213708Z
UID:34180-1748707200-1748714400@medwaywatersports.co.uk
SUMMARY:Kids Kayaking
DESCRIPTION:Join us for FREE monthly kayaking sessions at the Strand! \nMedway Sport\, in partnership with Medway Watersports Trust Ltd and funded by Active Thames\, is excited to offer the community a chance to explore the river’s fantastic water facilities and engage in unique physical activities as part of their Riverfront Community Fitness & Wellbeing initiative.Whether you’re a kid or an adult\, there’s a session for you to enjoy. Each session will run for 2 hours and MUST be pre booked via Medway Watersports website. Cut off for booking will be the evening before the session. \nIMPORTANT: Please wear old clothes and suitable footwear i.e. trainers or water\nshoes. Flip flops and crocs are not suitable and you will not be allowed to\nparticipate. Also bring a towel and dry clothes in case you get wet! 
URL:https://medwaywatersports.co.uk/event/adult-kayaking-3-2/
LOCATION:Medway WaterSports Centre\, Strand Approach Rd\, Gillingham\, Kent\, ME7 1TT\, United Kingdom
CATEGORIES:Kayaking
ATTACH;FMTTYPE=image/jpeg:https://medwaywatersports.co.uk/wp-content/uploads/2025/04/IMG_4266.jpeg
ORGANIZER;CN="Medway WaterSports Centre":MAILTO:sails@medwaywatersports.co.uk
END:VEVENT
BEGIN:VEVENT
DTSTART;TZID=Europe/London:20250519T190000
DTEND;TZID=Europe/London:20250519T190000
DTSTAMP:20260423T182352
CREATED:20250324T113159Z
LAST-MODIFIED:20250324T113654Z
UID:34039-1747681200-1747681200@medwaywatersports.co.uk
SUMMARY:Adult Kayaking
DESCRIPTION:Why not join us in the evening for a fun paddle exploring the River Medway. \nA great opportunity to make the most of the summer season and meet new people. \nIn the case of inclement weather where it is not possible to get on the water\, we will provide land based learning and activities. \nIMPORTANT: Please wear old clothes and suitable footwear i.e. trainers or water\nshoes. Flip flops and crocs are not suitable and you will not be allowed to\nparticipate. Also bring a towel and dry clothes to change into.
URL:https://medwaywatersports.co.uk/event/adult-kayaking/
LOCATION:Medway WaterSports Centre\, Strand Approach Rd\, Gillingham\, Kent\, ME7 1TT\, United Kingdom
CATEGORIES:Kayaking
ATTACH;FMTTYPE=image/png:https://medwaywatersports.co.uk/wp-content/uploads/2014/09/Adult-Kayaking-2025-copy.png
ORGANIZER;CN="Medway WaterSports Centre":MAILTO:sails@medwaywatersports.co.uk
END:VEVENT
END:VCALENDAR