BEGIN:VCALENDAR
VERSION:2.0
PRODID:-//Medway Watersports - ECPv6.15.20//NONSGML v1.0//EN
CALSCALE:GREGORIAN
METHOD:PUBLISH
X-WR-CALNAME:Medway Watersports
X-ORIGINAL-URL:https://medwaywatersports.co.uk
X-WR-CALDESC:Events for Medway Watersports
REFRESH-INTERVAL;VALUE=DURATION:PT1H
X-Robots-Tag:noindex
X-PUBLISHED-TTL:PT1H
BEGIN:VTIMEZONE
TZID:Europe/London
BEGIN:DAYLIGHT
TZOFFSETFROM:+0000
TZOFFSETTO:+0100
TZNAME:BST
DTSTART:20250330T010000
END:DAYLIGHT
BEGIN:STANDARD
TZOFFSETFROM:+0100
TZOFFSETTO:+0000
TZNAME:GMT
DTSTART:20251026T010000
END:STANDARD
BEGIN:DAYLIGHT
TZOFFSETFROM:+0000
TZOFFSETTO:+0100
TZNAME:BST
DTSTART:20260329T010000
END:DAYLIGHT
BEGIN:STANDARD
TZOFFSETFROM:+0100
TZOFFSETTO:+0000
TZNAME:GMT
DTSTART:20261025T010000
END:STANDARD
BEGIN:DAYLIGHT
TZOFFSETFROM:+0000
TZOFFSETTO:+0100
TZNAME:BST
DTSTART:20270328T010000
END:DAYLIGHT
BEGIN:STANDARD
TZOFFSETFROM:+0100
TZOFFSETTO:+0000
TZNAME:GMT
DTSTART:20271031T010000
END:STANDARD
END:VTIMEZONE
BEGIN:VEVENT
DTSTART;TZID=Europe/London:20260706T190000
DTEND;TZID=Europe/London:20260706T210000
DTSTAMP:20260423T194132
CREATED:20260207T143432Z
LAST-MODIFIED:20260418T151827Z
UID:34550-1783364400-1783371600@medwaywatersports.co.uk
SUMMARY:Adult Kayaking 06/07/2026 19.00 - 21.00
DESCRIPTION:Why not join us in the evening for a fun paddle exploring the River Medway.\n\nA great opportunity to make the most of the summer season and meet new people.\n\nIMPORTANT: Please wear old clothes and suitable footwear i.e. trainers or water\nshoes. Flip flops and crocs are not suitable and you will not be allowed to\nparticipate. Also bring a towel and dry clothes to change into.
URL:https://medwaywatersports.co.uk/event/adult-kayaking-22-04-2026-19-00-21-00-2-2-2-2-2-2/
LOCATION:Medway WaterSports Centre\, Strand Approach Rd\, Gillingham\, Kent\, ME7 1TT\, United Kingdom
CATEGORIES:Kayaking
ATTACH;FMTTYPE=image/png:https://medwaywatersports.co.uk/wp-content/uploads/2026/02/Aduly-Kayak-2026.png
ORGANIZER;CN="Medway WaterSports Centre":MAILTO:sails@medwaywatersports.co.uk
END:VEVENT
BEGIN:VEVENT
DTSTART;TZID=Europe/London:20260708T170000
DTEND;TZID=Europe/London:20260708T190000
DTSTAMP:20260423T194132
CREATED:20260209T170636Z
LAST-MODIFIED:20260211T111523Z
UID:34599-1783530000-1783537200@medwaywatersports.co.uk
SUMMARY:Kids Kayaking 08/07/2026
DESCRIPTION:For ages 8–14\, just £15 per session. \nCome join us after school for some exciting kayaking adventures on the River Medway! It’s a great opportunity to learn a new paddlesport\, meet new people\, and make friends. If the weather isn’t right for getting on the water\, we’ll switch to fun and engaging land-based activities instead. \nIMPORTANT: Please wear old clothes and proper footwear\, like trainers or water shoes. Flip flops and crocs aren’t suitable\, and you won’t be able to take part if you wear them. Don’t forget to bring a towel and a change of dry clothes for afterwards.
URL:https://medwaywatersports.co.uk/event/kids-kayaking-20-05-2026-2-2-2-2-2/
LOCATION:Medway WaterSports Centre\, Strand Approach Rd\, Gillingham\, Kent\, ME7 1TT\, United Kingdom
CATEGORIES:Kayaking
ATTACH;FMTTYPE=image/png:https://medwaywatersports.co.uk/wp-content/uploads/2026/02/image003-1.png
ORGANIZER;CN="Medway WaterSports Centre":MAILTO:sails@medwaywatersports.co.uk
END:VEVENT
BEGIN:VEVENT
DTSTART;TZID=Europe/London:20260715T170000
DTEND;TZID=Europe/London:20260715T190000
DTSTAMP:20260423T194132
CREATED:20260209T172121Z
LAST-MODIFIED:20260211T111247Z
UID:34601-1784134800-1784142000@medwaywatersports.co.uk
SUMMARY:Kids Kayaking 15/07/2026
DESCRIPTION:For ages 8–14\, just £15 per session. \nCome join us after school for some exciting kayaking adventures on the River Medway! It’s a great opportunity to learn a new paddlesport\, meet new people\, and make friends. If the weather isn’t right for getting on the water\, we’ll switch to fun and engaging land-based activities instead. \nIMPORTANT: Please wear old clothes and proper footwear\, like trainers or water shoes. Flip flops and crocs aren’t suitable\, and you won’t be able to take part if you wear them. Don’t forget to bring a towel and a change of dry clothes for afterwards.
URL:https://medwaywatersports.co.uk/event/kids-kayaking-20-05-2026-2-2-2-2-3/
LOCATION:Gillingham Marina\, 171-173 Pier Road\, Gillingham\, Kent\, ME7 1ub\, United Kingdom
CATEGORIES:Kayaking
ATTACH;FMTTYPE=image/png:https://medwaywatersports.co.uk/wp-content/uploads/2026/02/image003-1.png
ORGANIZER;CN="Medway WaterSports Centre":MAILTO:sails@medwaywatersports.co.uk
END:VEVENT
BEGIN:VEVENT
DTSTART;TZID=Europe/London:20260720T190000
DTEND;TZID=Europe/London:20260720T210000
DTSTAMP:20260423T194132
CREATED:20260207T143552Z
LAST-MODIFIED:20260418T151717Z
UID:34552-1784574000-1784581200@medwaywatersports.co.uk
SUMMARY:Adult Kayaking 20/07/2026 19.00 - 21.00
DESCRIPTION:Why not join us in the evening for a fun paddle exploring the River Medway.\n\nA great opportunity to make the most of the summer season and meet new people.\n\nIMPORTANT: Please wear old clothes and suitable footwear i.e. trainers or water\nshoes. Flip flops and crocs are not suitable and you will not be allowed to\nparticipate. Also bring a towel and dry clothes to change into.
URL:https://medwaywatersports.co.uk/event/adult-kayaking-22-04-2026-19-00-21-00-2-2-2-2-2-2-2/
LOCATION:Medway WaterSports Centre\, Strand Approach Rd\, Gillingham\, Kent\, ME7 1TT\, United Kingdom
CATEGORIES:Kayaking
ATTACH;FMTTYPE=image/png:https://medwaywatersports.co.uk/wp-content/uploads/2026/02/Aduly-Kayak-2026.png
ORGANIZER;CN="Medway WaterSports Centre":MAILTO:sails@medwaywatersports.co.uk
END:VEVENT
BEGIN:VEVENT
DTSTART;TZID=Europe/London:20260725T093000
DTEND;TZID=Europe/London:20260725T113000
DTSTAMP:20260423T194132
CREATED:20260401T161427Z
LAST-MODIFIED:20260401T170525Z
UID:34838-1784971800-1784979000@medwaywatersports.co.uk
SUMMARY:Kids Kayak Taster - Medway Sport 25/07/2026
DESCRIPTION:In partnership with Medway Sport in 2026 and as part of the Riverfront Community Fitness & Wellbeing initiative\, we’ll be offering taster kayaking and sailing sessions for adults and children at just £5 per person (usually £18). Enjoy two hours of fun on the water— all sessions must be pre-booked through Medway Watersports’ website\, with bookings closing the evening before. Don’t miss out; last year’s sessions sold out within days of release! \nKids Kayaking & Sailing (Kayaking age 8-17\, Sailing age 8-17) \n2nd May\, 13th June\, 25th July\, 12th Sept \nAdult Kayaking & Sailing \n17th May\, 28th June\, 16th Aug \nPLEASE REMEMBER – ALL TICKETS ARE NON REFUNDABLE \nIMPORTANT: Please wear old clothes and suitable footwear i.e. trainers or water shoes. Flip flops and crocs are not suitable and you will not be allowed to participate. Also bring a towel and dry clothes in case you get wet!
URL:https://medwaywatersports.co.uk/event/kids-kayak-taster-medway-sport-02-05-2026-2-2/
LOCATION:Medway WaterSports Centre\, Strand Approach Rd\, Gillingham\, Kent\, ME7 1TT\, United Kingdom
CATEGORIES:Kayaking
ATTACH;FMTTYPE=image/png:https://medwaywatersports.co.uk/wp-content/uploads/2026/03/Kids-Adult-Kayak-taster-2026.png
ORGANIZER;CN="Medway WaterSports Centre":MAILTO:sails@medwaywatersports.co.uk
END:VEVENT
END:VCALENDAR