BEGIN:VCALENDAR
VERSION:2.0
PRODID:-//Medway Watersports - ECPv6.15.20//NONSGML v1.0//EN
CALSCALE:GREGORIAN
METHOD:PUBLISH
X-ORIGINAL-URL:https://medwaywatersports.co.uk
X-WR-CALDESC:Events for Medway Watersports
REFRESH-INTERVAL;VALUE=DURATION:PT1H
X-Robots-Tag:noindex
X-PUBLISHED-TTL:PT1H
BEGIN:VTIMEZONE
TZID:Europe/London
BEGIN:DAYLIGHT
TZOFFSETFROM:+0000
TZOFFSETTO:+0100
TZNAME:BST
DTSTART:20250330T010000
END:DAYLIGHT
BEGIN:STANDARD
TZOFFSETFROM:+0100
TZOFFSETTO:+0000
TZNAME:GMT
DTSTART:20251026T010000
END:STANDARD
BEGIN:DAYLIGHT
TZOFFSETFROM:+0000
TZOFFSETTO:+0100
TZNAME:BST
DTSTART:20260329T010000
END:DAYLIGHT
BEGIN:STANDARD
TZOFFSETFROM:+0100
TZOFFSETTO:+0000
TZNAME:GMT
DTSTART:20261025T010000
END:STANDARD
BEGIN:DAYLIGHT
TZOFFSETFROM:+0000
TZOFFSETTO:+0100
TZNAME:BST
DTSTART:20270328T010000
END:DAYLIGHT
BEGIN:STANDARD
TZOFFSETFROM:+0100
TZOFFSETTO:+0000
TZNAME:GMT
DTSTART:20271031T010000
END:STANDARD
END:VTIMEZONE
BEGIN:VEVENT
DTSTART;TZID=Europe/London:20260622T190000
DTEND;TZID=Europe/London:20260622T210000
DTSTAMP:20260423T181841
CREATED:20260207T143308Z
LAST-MODIFIED:20260418T151921Z
UID:34548-1782154800-1782162000@medwaywatersports.co.uk
SUMMARY:Adult Kayaking 22/06/2026 19.00 - 21.00
DESCRIPTION:Why not join us in the evening for a fun paddle exploring the River Medway.\n\nA great opportunity to make the most of the summer season and meet new people.\n\nIMPORTANT: Please wear old clothes and suitable footwear i.e. trainers or water\nshoes. Flip flops and crocs are not suitable and you will not be allowed to\nparticipate. Also bring a towel and dry clothes to change into.
URL:https://medwaywatersports.co.uk/event/adult-kayaking-22-04-2026-19-00-21-00-2-2-2-2-2/
LOCATION:Medway WaterSports Centre\, Strand Approach Rd\, Gillingham\, Kent\, ME7 1TT\, United Kingdom
CATEGORIES:Kayaking
ATTACH;FMTTYPE=image/png:https://medwaywatersports.co.uk/wp-content/uploads/2026/02/Aduly-Kayak-2026.png
ORGANIZER;CN="Medway WaterSports Centre":MAILTO:sails@medwaywatersports.co.uk
END:VEVENT
END:VCALENDAR